BEGIN:VCALENDAR
VERSION:2.0
PRODID:-//Putsch for Ohio - ECPv6.15.20//NONSGML v1.0//EN
CALSCALE:GREGORIAN
METHOD:PUBLISH
X-WR-CALNAME:Putsch for Ohio
X-ORIGINAL-URL:https://putschforohio.com
X-WR-CALDESC:Events for Putsch for Ohio
REFRESH-INTERVAL;VALUE=DURATION:PT1H
X-Robots-Tag:noindex
X-PUBLISHED-TTL:PT1H
BEGIN:VTIMEZONE
TZID:America/New_York
BEGIN:DAYLIGHT
TZOFFSETFROM:-0500
TZOFFSETTO:-0400
TZNAME:EDT
DTSTART:20250309T070000
END:DAYLIGHT
BEGIN:STANDARD
TZOFFSETFROM:-0400
TZOFFSETTO:-0500
TZNAME:EST
DTSTART:20251102T060000
END:STANDARD
BEGIN:DAYLIGHT
TZOFFSETFROM:-0500
TZOFFSETTO:-0400
TZNAME:EDT
DTSTART:20260308T070000
END:DAYLIGHT
BEGIN:STANDARD
TZOFFSETFROM:-0400
TZOFFSETTO:-0500
TZNAME:EST
DTSTART:20261101T060000
END:STANDARD
BEGIN:DAYLIGHT
TZOFFSETFROM:-0500
TZOFFSETTO:-0400
TZNAME:EDT
DTSTART:20270314T070000
END:DAYLIGHT
BEGIN:STANDARD
TZOFFSETFROM:-0400
TZOFFSETTO:-0500
TZNAME:EST
DTSTART:20271107T060000
END:STANDARD
END:VTIMEZONE
BEGIN:VEVENT
DTSTART;TZID=America/New_York:20260327T180000
DTEND;TZID=America/New_York:20260327T200000
DTSTAMP:20260425T224246
CREATED:20260313T191812Z
LAST-MODIFIED:20260324T150652Z
UID:433-1774634400-1774641600@putschforohio.com
SUMMARY:Columbus: Schmidt's Sausage Hause and Restaurant
DESCRIPTION:Join Casey Putsch for a special evening at his favorite restaurant! \nEnjoy a catered\, authentic German dinner at Schmidt’s Sausage Hause. \nSpace is limited – RSVP below: \nSuggested Donation: $50 (https://secure.winred.com/casey-putsch-for-ohio/schmidts)
URL:https://putschforohio.com/event/columbus-schmidts-sausage-hause-and-restaurant/
LOCATION:Schmitt’s Sausuage Hause and Restaraunt\, 240 E Kossuth St\, Columbus\, Ohio\, 43206
END:VEVENT
BEGIN:VEVENT
DTSTART;TZID=America/New_York:20260321T130000
DTEND;TZID=America/New_York:20260321T160000
DTSTAMP:20260425T224246
CREATED:20260312T140346Z
LAST-MODIFIED:20260312T140346Z
UID:430-1774098000-1774108800@putschforohio.com
SUMMARY:Cincinnati Data Center Community Forum
DESCRIPTION:
URL:https://putschforohio.com/event/cincinnati-data-center-community-forum/
LOCATION:Zimmer Hall\, 315 College Dr\, Cincinatti\, Ohio\, 45219
END:VEVENT
BEGIN:VEVENT
DTSTART;TZID=America/New_York:20260319T170000
DTEND;TZID=America/New_York:20260319T180000
DTSTAMP:20260425T224246
CREATED:20260304T130537Z
LAST-MODIFIED:20260304T130537Z
UID:420-1773939600-1773943200@putschforohio.com
SUMMARY:Oregon Conservative Club
DESCRIPTION:
URL:https://putschforohio.com/event/oregon-conservative-club/
LOCATION:Oregon Senior Center\, 4350 Navarre Ave\, Oregon\, Ohio\, 43616
END:VEVENT
BEGIN:VEVENT
DTSTART;TZID=America/New_York:20260313T180000
DTEND;TZID=America/New_York:20260313T200000
DTSTAMP:20260425T224246
CREATED:20260224T192557Z
LAST-MODIFIED:20260304T131014Z
UID:411-1773424800-1773432000@putschforohio.com
SUMMARY:Tiffin Kickoff
DESCRIPTION:Join Casey Putsch as he returns to his home town for the next stage of his governor campaign.\nAs the American first alternative to Vivek Ramaswamy\, Putsch will present a restorative vision of Ohio that includes promises of standing up to foreign interests to secure Ohio’s jobs\, culture\, and future.
URL:https://putschforohio.com/event/tiffin-event/
LOCATION:The Renaissance of Tiffin\, 129 S Washington St\, Tiffin\, OH\, 44883\, United States
END:VEVENT
BEGIN:VEVENT
DTSTART;TZID=America/New_York:20260221T093000
DTEND;TZID=America/New_York:20260221T103000
DTSTAMP:20260425T224246
CREATED:20260206T223513Z
LAST-MODIFIED:20260206T223513Z
UID:400-1771666200-1771669800@putschforohio.com
SUMMARY:Columbiana County Republican Nominating Committee
DESCRIPTION:
URL:https://putschforohio.com/event/columbiana-county-republican-nominating-committee/
LOCATION:Columbiana County GOP Headquarters\, 124 W Lincoln Way\, Lisbon\, Ohio\, 44432
END:VEVENT
BEGIN:VEVENT
DTSTART;TZID=America/New_York:20260216T173000
DTEND;TZID=America/New_York:20260216T183000
DTSTAMP:20260425T224246
CREATED:20260206T223402Z
LAST-MODIFIED:20260206T223402Z
UID:397-1771263000-1771266600@putschforohio.com
SUMMARY:Franklin County Republican Party
DESCRIPTION:
URL:https://putschforohio.com/event/franklin-county-republican-party/
LOCATION:Franklin County Republican Headquarters\, 1561 Old Leonard Ave\, Columbus\, Ohio\, 43219
END:VEVENT
BEGIN:VEVENT
DTSTART;TZID=America/New_York:20260212T170000
DTEND;TZID=America/New_York:20260212T190000
DTSTAMP:20260425T224246
CREATED:20260206T223141Z
LAST-MODIFIED:20260206T223141Z
UID:394-1770915600-1770922800@putschforohio.com
SUMMARY:Brown County Republican Central Committee
DESCRIPTION:
URL:https://putschforohio.com/event/brown-county-republican-central-committee/
LOCATION:Southern Hills Career and Technical Center\, 9193 Tamer Rd\, Georgetown\, Ohio\, 45121
END:VEVENT
BEGIN:VEVENT
DTSTART;TZID=America/New_York:20260210T173000
DTEND;TZID=America/New_York:20260214T190000
DTSTAMP:20260425T224246
CREATED:20260206T222943Z
LAST-MODIFIED:20260206T223005Z
UID:391-1770744600-1771095600@putschforohio.com
SUMMARY:Prebble County Republican Central Committee
DESCRIPTION:
URL:https://putschforohio.com/event/prebble-county-republican-central-committee/
LOCATION:Eaton Country Club\, 100 Morton Road\, Eaton\, Ohio\, 45320
END:VEVENT
BEGIN:VEVENT
DTSTART;TZID=America/New_York:20260202T160000
DTEND;TZID=America/New_York:20260202T160000
DTSTAMP:20260425T224246
CREATED:20260119T194058Z
LAST-MODIFIED:20260119T194058Z
UID:362-1770048000-1770048000@putschforohio.com
SUMMARY:Rushcreek Pub & Grub Event
DESCRIPTION:
URL:https://putschforohio.com/event/rushcreek-pub-grub-event/
LOCATION:Rushcreek Pub and Grub\, 102 Broad St\, Bremen\, OH\, 43107\, United States
END:VEVENT
BEGIN:VEVENT
DTSTART;TZID=America/New_York:20260129T190000
DTEND;TZID=America/New_York:20260129T203000
DTSTAMP:20260425T224246
CREATED:20260119T194449Z
LAST-MODIFIED:20260124T194105Z
UID:361-1769713200-1769718600@putschforohio.com
SUMMARY:Toledoans for Trump
DESCRIPTION:
URL:https://putschforohio.com/event/toledoans-for-trump/
LOCATION:Toledoans for Trump\, 519 Monroe St\, Toledo\, OH\, 43604\, United States
END:VEVENT
BEGIN:VEVENT
DTSTART;TZID=America/New_York:20260128T180000
DTEND;TZID=America/New_York:20260128T180000
DTSTAMP:20260425T224246
CREATED:20260112T211017Z
LAST-MODIFIED:20260112T221556Z
UID:294-1769623200-1769623200@putschforohio.com
SUMMARY:Monkey Bar and Grille Event
DESCRIPTION:
URL:https://putschforohio.com/event/monkey-bar-and-grille-event/
LOCATION:The Monkey Bar and Grille\, 7837 Old 3C Hwy\, Maineville\, OH\, 45039\, United States
END:VEVENT
BEGIN:VEVENT
DTSTART;TZID=America/New_York:20260124T170000
DTEND;TZID=America/New_York:20260124T170000
DTSTAMP:20260425T224246
CREATED:20260112T211015Z
LAST-MODIFIED:20260112T221546Z
UID:292-1769274000-1769274000@putschforohio.com
SUMMARY:Madison Tap House Event
DESCRIPTION:
URL:https://putschforohio.com/event/madison-tap-house-event/
LOCATION:Madison Tap House\, 1421 Hubbard Rd\, Madison\, OH\, 44047\, United States
END:VEVENT
BEGIN:VEVENT
DTSTART;TZID=America/New_York:20260121T170000
DTEND;TZID=America/New_York:20260121T170000
DTSTAMP:20260425T224246
CREATED:20260112T210959Z
LAST-MODIFIED:20260112T221438Z
UID:289-1769014800-1769014800@putschforohio.com
SUMMARY:Topnotch Diner Event
DESCRIPTION:
URL:https://putschforohio.com/event/topnotch-diner-event/
LOCATION:Topnotch Diner\, 682 S High St\, Cortland\, OH\, 44410\, United States
END:VEVENT
BEGIN:VEVENT
DTSTART;TZID=America/New_York:20260119T183000
DTEND;TZID=America/New_York:20260119T183000
DTSTAMP:20260425T224246
CREATED:20260112T210958Z
LAST-MODIFIED:20260112T220328Z
UID:287-1768847400-1768847400@putschforohio.com
SUMMARY:Strongsville GOP Meet the Candidate
DESCRIPTION:
URL:https://putschforohio.com/event/strongsville-gop-meet-the-candidate/
LOCATION:The Local Bar\, 14751 Pearl Rd\, Strongsville\, OH\, 44136\, United States
END:VEVENT
BEGIN:VEVENT
DTSTART;TZID=America/New_York:20260116T180000
DTEND;TZID=America/New_York:20260116T180000
DTSTAMP:20260425T224246
CREATED:20260112T210953Z
LAST-MODIFIED:20260112T220558Z
UID:284-1768586400-1768586400@putschforohio.com
SUMMARY:Rusty Bucket Event
DESCRIPTION:
URL:https://putschforohio.com/event/rusty-bucket-event/
LOCATION:The Rusty Bucket\, 1635 W Lane Ave\, Upper Arlington\, OH\, 43221\, United States
END:VEVENT
BEGIN:VEVENT
DTSTART;TZID=America/New_York:20260115T180000
DTEND;TZID=America/New_York:20260115T180000
DTSTAMP:20260425T224246
CREATED:20260112T210952Z
LAST-MODIFIED:20260112T220642Z
UID:283-1768500000-1768500000@putschforohio.com
SUMMARY:Rushcreek Pub & Grub GOP Meeting
DESCRIPTION:
URL:https://putschforohio.com/event/rushcreek-pub-grub-gop-meeting/
LOCATION:Rushcreek Pub and Grub\, 102 Broad St\, Bremen\, OH\, 43107\, United States
END:VEVENT
BEGIN:VEVENT
DTSTART;TZID=America/New_York:20260114T160000
DTEND;TZID=America/New_York:20260114T160000
DTSTAMP:20260425T224246
CREATED:20260112T210952Z
LAST-MODIFIED:20260112T220802Z
UID:282-1768406400-1768406400@putschforohio.com
SUMMARY:Angela Williams Office Event
DESCRIPTION:
URL:https://putschforohio.com/event/angela-williams-office-event/
LOCATION:Angela Williams Office Convention Center\, 158 Commerce Park Dr\, Westerville\, OH\, 43082\, United States
END:VEVENT
BEGIN:VEVENT
DTSTART;TZID=America/New_York:20260112T170000
DTEND;TZID=America/New_York:20260112T170000
DTSTAMP:20260425T224246
CREATED:20260112T210952Z
LAST-MODIFIED:20260112T220902Z
UID:281-1768237200-1768237200@putschforohio.com
SUMMARY:Delaware County GOP Meeting
DESCRIPTION:
URL:https://putschforohio.com/event/delaware-county-gop-meeting/
LOCATION:Delaware County GOP\, 11 E Central Ave\, Delaware\, OH\, 43015\, United States
END:VEVENT
END:VCALENDAR