BEGIN:VCALENDAR
VERSION:2.0
PRODID:-//Putsch for Ohio - ECPv6.15.20//NONSGML v1.0//EN
CALSCALE:GREGORIAN
METHOD:PUBLISH
X-WR-CALNAME:Putsch for Ohio
X-ORIGINAL-URL:https://putschforohio.com
X-WR-CALDESC:Events for Putsch for Ohio
REFRESH-INTERVAL;VALUE=DURATION:PT1H
X-Robots-Tag:noindex
X-PUBLISHED-TTL:PT1H
BEGIN:VTIMEZONE
TZID:America/New_York
BEGIN:DAYLIGHT
TZOFFSETFROM:-0500
TZOFFSETTO:-0400
TZNAME:EDT
DTSTART:20250309T070000
END:DAYLIGHT
BEGIN:STANDARD
TZOFFSETFROM:-0400
TZOFFSETTO:-0500
TZNAME:EST
DTSTART:20251102T060000
END:STANDARD
BEGIN:DAYLIGHT
TZOFFSETFROM:-0500
TZOFFSETTO:-0400
TZNAME:EDT
DTSTART:20260308T070000
END:DAYLIGHT
BEGIN:STANDARD
TZOFFSETFROM:-0400
TZOFFSETTO:-0500
TZNAME:EST
DTSTART:20261101T060000
END:STANDARD
BEGIN:DAYLIGHT
TZOFFSETFROM:-0500
TZOFFSETTO:-0400
TZNAME:EDT
DTSTART:20270314T070000
END:DAYLIGHT
BEGIN:STANDARD
TZOFFSETFROM:-0400
TZOFFSETTO:-0500
TZNAME:EST
DTSTART:20271107T060000
END:STANDARD
END:VTIMEZONE
BEGIN:VEVENT
DTSTART;TZID=America/New_York:20260409T190000
DTEND;TZID=America/New_York:20260409T203000
DTSTAMP:20260425T235209
CREATED:20260309T144749Z
LAST-MODIFIED:20260312T140440Z
UID:424-1775761200-1775766600@putschforohio.com
SUMMARY:Westerville Tea Party w/ Kim Georgeton
DESCRIPTION:Meet Lt. Governor candidate Kim Georgeton in Westerville!
URL:https://putschforohio.com/event/westerville-tea-party-w-kim-georgeton/
LOCATION:Westerville Office Park\, 158 Commerce Park Dr\, Westerville\, Ohio\, 43082
END:VEVENT
BEGIN:VEVENT
DTSTART;TZID=America/New_York:20260416T180000
DTEND;TZID=America/New_York:20260416T200000
DTSTAMP:20260425T235209
CREATED:20260330T151257Z
LAST-MODIFIED:20260330T151257Z
UID:513-1776362400-1776369600@putschforohio.com
SUMMARY:Ohio Christian Alliance Freedom Banquet
DESCRIPTION:Join the Ohio Christian Alliance at its annual banquet\, followed by a forum where Casey Putsch will be going head to head against Vivek Ramaswamy. \nhttps://www.ohioca.org/
URL:https://putschforohio.com/event/ohio-christian-alliance-freedom-banquet/
LOCATION:Double Tree Akron\, 3180 W Market St\, Akron\, OH\, 44333
END:VEVENT
BEGIN:VEVENT
DTSTART;TZID=America/New_York:20260417T173000
DTEND;TZID=America/New_York:20260417T200000
DTSTAMP:20260425T235209
CREATED:20260331T162347Z
LAST-MODIFIED:20260415T161623Z
UID:517-1776447000-1776456000@putschforohio.com
SUMMARY:[NEW LOCATION] Columbus Area Meet and Greet (formerly Taste of France Event)
DESCRIPTION:Due to extreme harassment from leftists and Vivek shills\, Casey has decided to relocate the “Taste of France” event to protect the owners of the restaurant.\nThe new rally will be a secret location. Meet Casey at Goodale Park where he will plug in his electric guitar into his Dodge Viper\, and rally before departing to the new venue at 6:30 sharp.
URL:https://putschforohio.com/event/tasteoffrance/
LOCATION:Goodale Park\, 120 W Goodale St\, Columbus\, OH\, 43215
END:VEVENT
BEGIN:VEVENT
DTSTART;TZID=America/New_York:20260418T180000
DTEND;TZID=America/New_York:20260418T200000
DTSTAMP:20260425T235209
CREATED:20260401T210409Z
LAST-MODIFIED:20260413T231101Z
UID:526-1776535200-1776542400@putschforohio.com
SUMMARY:Savor a Sacred Cow With Casey Putsch
DESCRIPTION:Join Casey and grab some steak at the Brown Derby Roadhouse in Ontario!
URL:https://putschforohio.com/event/casey-putsch-ontario-meet-and-greet/
LOCATION:Brown Derby Roadhouse\, 3985 Park Ave W\, Ontario\, OH\, 44906
END:VEVENT
BEGIN:VEVENT
DTSTART;TZID=America/New_York:20260423T170000
DTEND;TZID=America/New_York:20260423T183000
DTSTAMP:20260425T235209
CREATED:20260420T140734Z
LAST-MODIFIED:20260420T140805Z
UID:676-1776963600-1776969000@putschforohio.com
SUMMARY:Kim Georgeton at the Greene County GOP
DESCRIPTION:Join Lt. Governor candidate Kim Georgeton at the Green County GOP!
URL:https://putschforohio.com/event/kim-georgeton-at-the-green-county-gop/
END:VEVENT
END:VCALENDAR