BEGIN:VCALENDAR
VERSION:2.0
PRODID:-//Putsch for Ohio - ECPv6.15.20//NONSGML v1.0//EN
CALSCALE:GREGORIAN
METHOD:PUBLISH
X-WR-CALNAME:Putsch for Ohio
X-ORIGINAL-URL:https://putschforohio.com
X-WR-CALDESC:Events for Putsch for Ohio
REFRESH-INTERVAL;VALUE=DURATION:PT1H
X-Robots-Tag:noindex
X-PUBLISHED-TTL:PT1H
BEGIN:VTIMEZONE
TZID:America/New_York
BEGIN:DAYLIGHT
TZOFFSETFROM:-0500
TZOFFSETTO:-0400
TZNAME:EDT
DTSTART:20250309T070000
END:DAYLIGHT
BEGIN:STANDARD
TZOFFSETFROM:-0400
TZOFFSETTO:-0500
TZNAME:EST
DTSTART:20251102T060000
END:STANDARD
BEGIN:DAYLIGHT
TZOFFSETFROM:-0500
TZOFFSETTO:-0400
TZNAME:EDT
DTSTART:20260308T070000
END:DAYLIGHT
BEGIN:STANDARD
TZOFFSETFROM:-0400
TZOFFSETTO:-0500
TZNAME:EST
DTSTART:20261101T060000
END:STANDARD
BEGIN:DAYLIGHT
TZOFFSETFROM:-0500
TZOFFSETTO:-0400
TZNAME:EDT
DTSTART:20270314T070000
END:DAYLIGHT
BEGIN:STANDARD
TZOFFSETFROM:-0400
TZOFFSETTO:-0500
TZNAME:EST
DTSTART:20271107T060000
END:STANDARD
END:VTIMEZONE
BEGIN:VEVENT
DTSTART;TZID=America/New_York:20260121T170000
DTEND;TZID=America/New_York:20260121T170000
DTSTAMP:20260425T235946
CREATED:20260112T210959Z
LAST-MODIFIED:20260112T221438Z
UID:289-1769014800-1769014800@putschforohio.com
SUMMARY:Topnotch Diner Event
DESCRIPTION:
URL:https://putschforohio.com/event/topnotch-diner-event/
LOCATION:Topnotch Diner\, 682 S High St\, Cortland\, OH\, 44410\, United States
END:VEVENT
BEGIN:VEVENT
DTSTART;TZID=America/New_York:20260119T183000
DTEND;TZID=America/New_York:20260119T183000
DTSTAMP:20260425T235946
CREATED:20260112T210958Z
LAST-MODIFIED:20260112T220328Z
UID:287-1768847400-1768847400@putschforohio.com
SUMMARY:Strongsville GOP Meet the Candidate
DESCRIPTION:
URL:https://putschforohio.com/event/strongsville-gop-meet-the-candidate/
LOCATION:The Local Bar\, 14751 Pearl Rd\, Strongsville\, OH\, 44136\, United States
END:VEVENT
BEGIN:VEVENT
DTSTART;TZID=America/New_York:20260116T180000
DTEND;TZID=America/New_York:20260116T180000
DTSTAMP:20260425T235946
CREATED:20260112T210953Z
LAST-MODIFIED:20260112T220558Z
UID:284-1768586400-1768586400@putschforohio.com
SUMMARY:Rusty Bucket Event
DESCRIPTION:
URL:https://putschforohio.com/event/rusty-bucket-event/
LOCATION:The Rusty Bucket\, 1635 W Lane Ave\, Upper Arlington\, OH\, 43221\, United States
END:VEVENT
BEGIN:VEVENT
DTSTART;TZID=America/New_York:20260115T180000
DTEND;TZID=America/New_York:20260115T180000
DTSTAMP:20260425T235946
CREATED:20260112T210952Z
LAST-MODIFIED:20260112T220642Z
UID:283-1768500000-1768500000@putschforohio.com
SUMMARY:Rushcreek Pub & Grub GOP Meeting
DESCRIPTION:
URL:https://putschforohio.com/event/rushcreek-pub-grub-gop-meeting/
LOCATION:Rushcreek Pub and Grub\, 102 Broad St\, Bremen\, OH\, 43107\, United States
END:VEVENT
BEGIN:VEVENT
DTSTART;TZID=America/New_York:20260114T160000
DTEND;TZID=America/New_York:20260114T160000
DTSTAMP:20260425T235946
CREATED:20260112T210952Z
LAST-MODIFIED:20260112T220802Z
UID:282-1768406400-1768406400@putschforohio.com
SUMMARY:Angela Williams Office Event
DESCRIPTION:
URL:https://putschforohio.com/event/angela-williams-office-event/
LOCATION:Angela Williams Office Convention Center\, 158 Commerce Park Dr\, Westerville\, OH\, 43082\, United States
END:VEVENT
BEGIN:VEVENT
DTSTART;TZID=America/New_York:20260112T170000
DTEND;TZID=America/New_York:20260112T170000
DTSTAMP:20260425T235946
CREATED:20260112T210952Z
LAST-MODIFIED:20260112T220902Z
UID:281-1768237200-1768237200@putschforohio.com
SUMMARY:Delaware County GOP Meeting
DESCRIPTION:
URL:https://putschforohio.com/event/delaware-county-gop-meeting/
LOCATION:Delaware County GOP\, 11 E Central Ave\, Delaware\, OH\, 43015\, United States
END:VEVENT
END:VCALENDAR